BEGIN:VCALENDAR
VERSION:2.0
PRODID:-//IAS - ECPv6.10.1.1//NONSGML v1.0//EN
CALSCALE:GREGORIAN
METHOD:PUBLISH
X-WR-CALNAME:IAS
X-ORIGINAL-URL:https://iascares.com
X-WR-CALDESC:Events for IAS
REFRESH-INTERVAL;VALUE=DURATION:PT1H
X-Robots-Tag:noindex
X-PUBLISHED-TTL:PT1H
BEGIN:VTIMEZONE
TZID:America/Halifax
BEGIN:DAYLIGHT
TZOFFSETFROM:-0400
TZOFFSETTO:-0300
TZNAME:ADT
DTSTART:20230312T060000
END:DAYLIGHT
BEGIN:STANDARD
TZOFFSETFROM:-0300
TZOFFSETTO:-0400
TZNAME:AST
DTSTART:20231105T050000
END:STANDARD
END:VTIMEZONE
BEGIN:VEVENT
DTSTART;TZID=America/Halifax:20230419T100000
DTEND;TZID=America/Halifax:20230419T140000
DTSTAMP:20260425T235410
CREATED:20230329T155247Z
LAST-MODIFIED:20230525T144002Z
UID:2631-1681898400-1681912800@iascares.com
SUMMARY:STARability Family Forum
DESCRIPTION:IAS Founder\, Idela Hernandez\, will be a guest speaker at the STARability Foundation’s next Family Forum. The event will discuss the important topics of Social Security Benefits and Guardianship. Attendees will learn about Supplemental Security Income and Social Security Disability Insurance\, Medicare and Medicaid\, and financial considerations for individuals with disabilities who are working or would like to work. \nTopics will also include the different types of guardianship\, guardian advocacy\, the process to become a guardian or guardian advocate\, and what follow-ups are needed with the court. \nSTARability’s Family Forum will be a hybrid event and is free to attend. The in-person portion will be held in the Collier Community Foundation’s meeting room on the second floor of the building. The virtual portion will be held via Zoom. Link to follow to free ticket purchasers. Seats for in-person attendance are limited. Light refreshments will be provided. \nWatch The Video
URL:https://iascares.com/event/starability-family-forum/
CATEGORIES:Benefits Training
ATTACH;FMTTYPE=image/jpeg:https://iascares.com/wp-content/uploads/2023/03/IAS-Events-Featured-Image-min.jpg
END:VEVENT
END:VCALENDAR